BEGIN:VCALENDAR
VERSION:2.0
PRODID:-//Connected Spirits - ECPv6.15.20//NONSGML v1.0//EN
CALSCALE:GREGORIAN
METHOD:PUBLISH
X-WR-CALNAME:Connected Spirits
X-ORIGINAL-URL:https://www.connected-spirits.com
X-WR-CALDESC:Events for Connected Spirits
REFRESH-INTERVAL;VALUE=DURATION:PT1H
X-Robots-Tag:noindex
X-PUBLISHED-TTL:PT1H
BEGIN:VTIMEZONE
TZID:Australia/Sydney
BEGIN:STANDARD
TZOFFSETFROM:+1100
TZOFFSETTO:+1000
TZNAME:AEST
DTSTART:20230401T160000
END:STANDARD
BEGIN:DAYLIGHT
TZOFFSETFROM:+1000
TZOFFSETTO:+1100
TZNAME:AEDT
DTSTART:20230930T160000
END:DAYLIGHT
BEGIN:STANDARD
TZOFFSETFROM:+1100
TZOFFSETTO:+1000
TZNAME:AEST
DTSTART:20240406T160000
END:STANDARD
BEGIN:DAYLIGHT
TZOFFSETFROM:+1000
TZOFFSETTO:+1100
TZNAME:AEDT
DTSTART:20241005T160000
END:DAYLIGHT
BEGIN:STANDARD
TZOFFSETFROM:+1100
TZOFFSETTO:+1000
TZNAME:AEST
DTSTART:20250405T160000
END:STANDARD
BEGIN:DAYLIGHT
TZOFFSETFROM:+1000
TZOFFSETTO:+1100
TZNAME:AEDT
DTSTART:20251004T160000
END:DAYLIGHT
BEGIN:STANDARD
TZOFFSETFROM:+1100
TZOFFSETTO:+1000
TZNAME:AEST
DTSTART:20260404T160000
END:STANDARD
BEGIN:DAYLIGHT
TZOFFSETFROM:+1000
TZOFFSETTO:+1100
TZNAME:AEDT
DTSTART:20261003T160000
END:DAYLIGHT
END:VTIMEZONE
BEGIN:VEVENT
DTSTART;TZID=Australia/Sydney:20250506T190000
DTEND;TZID=Australia/Sydney:20250506T203000
DTSTAMP:20260420T183735
CREATED:20250427T073517Z
LAST-MODIFIED:20250427T073549Z
UID:1943-1746558000-1746563400@www.connected-spirits.com
SUMMARY:Denise Litchfield - Hall service
DESCRIPTION:
URL:https://www.connected-spirits.com/event/denise-litchfield-hall-service-3/
LOCATION:Inner West Cultural Services\, 35-39 Dickson Street\, Newtown
ATTACH;FMTTYPE=image/jpeg:https://www.connected-spirits.com/wp-content/uploads/2020/10/Denise-Litchfield-clairvoyant.jpg
END:VEVENT
BEGIN:VEVENT
DTSTART;TZID=Australia/Sydney:20250421T190000
DTEND;TZID=Australia/Sydney:20250421T200000
DTSTAMP:20260420T183735
CREATED:20250408T002055Z
LAST-MODIFIED:20250408T002055Z
UID:1938-1745262000-1745265600@www.connected-spirits.com
SUMMARY:Meditation - Online
DESCRIPTION:
URL:https://www.connected-spirits.com/event/meditation-online-72/
LOCATION:Online\, via Zoom
ATTACH;FMTTYPE=image/jpeg:https://www.connected-spirits.com/wp-content/uploads/2020/07/cropped-flat-christmas-angel-illustration_23-2148348308.jpg
END:VEVENT
BEGIN:VEVENT
DTSTART;TZID=Australia/Sydney:20250415T193000
DTEND;TZID=Australia/Sydney:20250415T210000
DTSTAMP:20260420T183735
CREATED:20250408T001758Z
LAST-MODIFIED:20250408T001758Z
UID:1934-1744745400-1744750800@www.connected-spirits.com
SUMMARY:Kez Eggleton - online service
DESCRIPTION:
URL:https://www.connected-spirits.com/event/kez-eggleton-online-service-2/
LOCATION:Online\, via Zoom
ATTACH;FMTTYPE=image/jpeg:https://www.connected-spirits.com/wp-content/uploads/2024/05/Kez-Eggleton.jpg
END:VEVENT
BEGIN:VEVENT
DTSTART;TZID=Australia/Sydney:20250401T190000
DTEND;TZID=Australia/Sydney:20250401T203000
DTSTAMP:20260420T183735
CREATED:20250408T001929Z
LAST-MODIFIED:20250408T001929Z
UID:1936-1743534000-1743539400@www.connected-spirits.com
SUMMARY:Maria Krystyna - Hall service
DESCRIPTION:
URL:https://www.connected-spirits.com/event/maria-krystyna-hall-service-4/
LOCATION:Inner West Cultural Services\, 35-39 Dickson Street\, Newtown
ATTACH;FMTTYPE=image/jpeg:https://www.connected-spirits.com/wp-content/uploads/2019/08/MK-Home.jpg
END:VEVENT
BEGIN:VEVENT
DTSTART;TZID=Australia/Sydney:20250318T190000
DTEND;TZID=Australia/Sydney:20250318T203000
DTSTAMP:20260420T183735
CREATED:20250317T052655Z
LAST-MODIFIED:20250317T052655Z
UID:1926-1742324400-1742329800@www.connected-spirits.com
SUMMARY:Christina Hartley - online service
DESCRIPTION:
URL:https://www.connected-spirits.com/event/christina-hartley-online-service/
LOCATION:Online\, via Zoom
ATTACH;FMTTYPE=image/jpeg:https://www.connected-spirits.com/wp-content/uploads/2025/03/tina-profile-photo-orig_orig.jpg
END:VEVENT
BEGIN:VEVENT
DTSTART;TZID=Australia/Sydney:20250304T190000
DTEND;TZID=Australia/Sydney:20250304T203000
DTSTAMP:20260420T183735
CREATED:20250225T234610Z
LAST-MODIFIED:20250226T024706Z
UID:1919-1741114800-1741120200@www.connected-spirits.com
SUMMARY:Marcia Quinton - Hall service
DESCRIPTION:
URL:https://www.connected-spirits.com/event/marcia-quinton-hall-service-2/
LOCATION:Inner West Cultural Services\, 35-39 Dickson Street\, Newtown
ATTACH;FMTTYPE=image/jpeg:https://www.connected-spirits.com/wp-content/uploads/2024/05/MarciaHeadShots-017.jpg
END:VEVENT
BEGIN:VEVENT
DTSTART;TZID=Australia/Sydney:20250218T190000
DTEND;TZID=Australia/Sydney:20250218T203000
DTSTAMP:20260420T183735
CREATED:20250205T005344Z
LAST-MODIFIED:20250205T005417Z
UID:1913-1739905200-1739910600@www.connected-spirits.com
SUMMARY:Val Hood - online service
DESCRIPTION:
URL:https://www.connected-spirits.com/event/val-hood-online-service-8/
LOCATION:Online\, via Zoom
ATTACH;FMTTYPE=image/jpeg:https://www.connected-spirits.com/wp-content/uploads/2021/03/val-image.jpg
END:VEVENT
BEGIN:VEVENT
DTSTART;TZID=Australia/Sydney:20250204T190000
DTEND;TZID=Australia/Sydney:20250204T203000
DTSTAMP:20260420T183735
CREATED:20250119T091338Z
LAST-MODIFIED:20250119T091447Z
UID:1900-1738695600-1738701000@www.connected-spirits.com
SUMMARY:Janelle Campbell - Hall service
DESCRIPTION:
URL:https://www.connected-spirits.com/event/janelle-campbell-hall-service-2-2/
LOCATION:Inner West Cultural Services\, 35-39 Dickson Street\, Newtown
ATTACH;FMTTYPE=image/jpeg:https://www.connected-spirits.com/wp-content/uploads/2019/04/Image-of-JC-in-park-3.jpg
END:VEVENT
BEGIN:VEVENT
DTSTART;TZID=Australia/Sydney:20241111T190000
DTEND;TZID=Australia/Sydney:20241111T200000
DTSTAMP:20260420T183735
CREATED:20241105T031209Z
LAST-MODIFIED:20241105T031209Z
UID:1895-1731351600-1731355200@www.connected-spirits.com
SUMMARY:Meditation - Online
DESCRIPTION:
URL:https://www.connected-spirits.com/event/meditation-online-71/
LOCATION:Online\, via Zoom
ATTACH;FMTTYPE=image/jpeg:https://www.connected-spirits.com/wp-content/uploads/2020/07/cropped-flat-christmas-angel-illustration_23-2148348308.jpg
END:VEVENT
BEGIN:VEVENT
DTSTART;TZID=Australia/Sydney:20241105T190000
DTEND;TZID=Australia/Sydney:20241105T203000
DTSTAMP:20260420T183735
CREATED:20241104T013431Z
LAST-MODIFIED:20241104T013554Z
UID:1891-1730833200-1730838600@www.connected-spirits.com
SUMMARY:Ben Graham - Hall service
DESCRIPTION:
URL:https://www.connected-spirits.com/event/ben-graham-hall-service-4/
LOCATION:Inner West Cultural Services\, 35-39 Dickson Street\, Newtown
ATTACH;FMTTYPE=image/jpeg:https://www.connected-spirits.com/wp-content/uploads/2022/04/Ben-Graham.jpg
END:VEVENT
BEGIN:VEVENT
DTSTART;TZID=Australia/Sydney:20241021T190000
DTEND;TZID=Australia/Sydney:20241021T200000
DTSTAMP:20260420T183735
CREATED:20240919T015251Z
LAST-MODIFIED:20240919T015251Z
UID:1873-1729537200-1729540800@www.connected-spirits.com
SUMMARY:Meditation - Online
DESCRIPTION:
URL:https://www.connected-spirits.com/event/meditation-online-70/
LOCATION:Online\, via Zoom
ATTACH;FMTTYPE=image/jpeg:https://www.connected-spirits.com/wp-content/uploads/2020/07/cropped-flat-christmas-angel-illustration_23-2148348308.jpg
END:VEVENT
BEGIN:VEVENT
DTSTART;TZID=Australia/Sydney:20241015T190000
DTEND;TZID=Australia/Sydney:20241015T203000
DTSTAMP:20260420T183735
CREATED:20240919T015150Z
LAST-MODIFIED:20241104T013348Z
UID:1871-1729018800-1729024200@www.connected-spirits.com
SUMMARY:Val Hood - online service
DESCRIPTION:
URL:https://www.connected-spirits.com/event/val-hood-online-service-7/
LOCATION:Online\, via Zoom
ATTACH;FMTTYPE=image/jpeg:https://www.connected-spirits.com/wp-content/uploads/2023/03/Karen-Davies-outside.jpg
END:VEVENT
BEGIN:VEVENT
DTSTART;TZID=Australia/Sydney:20241007T190000
DTEND;TZID=Australia/Sydney:20241007T200000
DTSTAMP:20260420T183735
CREATED:20240919T014844Z
LAST-MODIFIED:20240919T014844Z
UID:1869-1728327600-1728331200@www.connected-spirits.com
SUMMARY:Meditation - Online
DESCRIPTION:
URL:https://www.connected-spirits.com/event/meditation-online-69/
LOCATION:Online\, via Zoom
ATTACH;FMTTYPE=image/jpeg:https://www.connected-spirits.com/wp-content/uploads/2020/07/cropped-flat-christmas-angel-illustration_23-2148348308.jpg
END:VEVENT
BEGIN:VEVENT
DTSTART;TZID=Australia/Sydney:20241001T190000
DTEND;TZID=Australia/Sydney:20241001T203000
DTSTAMP:20260420T183735
CREATED:20240919T014110Z
LAST-MODIFIED:20240930T223435Z
UID:1861-1727809200-1727814600@www.connected-spirits.com
SUMMARY:Val Hood - Hall service
DESCRIPTION:
URL:https://www.connected-spirits.com/event/val-hood-hall-service-2/
LOCATION:Inner West Cultural Services\, 35-39 Dickson Street\, Newtown
ATTACH;FMTTYPE=image/jpeg:https://www.connected-spirits.com/wp-content/uploads/2021/03/val-image.jpg
END:VEVENT
BEGIN:VEVENT
DTSTART;TZID=Australia/Sydney:20240923T190000
DTEND;TZID=Australia/Sydney:20240923T200000
DTSTAMP:20260420T183735
CREATED:20240919T014754Z
LAST-MODIFIED:20240919T014754Z
UID:1867-1727118000-1727121600@www.connected-spirits.com
SUMMARY:Meditation - Online
DESCRIPTION:
URL:https://www.connected-spirits.com/event/meditation-online-68/
LOCATION:Online\, via Zoom
ATTACH;FMTTYPE=image/jpeg:https://www.connected-spirits.com/wp-content/uploads/2020/07/cropped-flat-christmas-angel-illustration_23-2148348308.jpg
END:VEVENT
BEGIN:VEVENT
DTSTART;TZID=Australia/Sydney:20240917T190000
DTEND;TZID=Australia/Sydney:20240917T203000
DTSTAMP:20260420T183735
CREATED:20240919T011719Z
LAST-MODIFIED:20240919T011841Z
UID:1855-1726599600-1726605000@www.connected-spirits.com
SUMMARY:Karen Wood - online service
DESCRIPTION:
URL:https://www.connected-spirits.com/event/karen-wood-online-service-3-2/
LOCATION:Online\, via Zoom
ATTACH;FMTTYPE=image/jpeg:https://www.connected-spirits.com/wp-content/uploads/2020/11/Karen-Wood-UK.jpg
END:VEVENT
BEGIN:VEVENT
DTSTART;TZID=Australia/Sydney:20240909T190000
DTEND;TZID=Australia/Sydney:20240909T200000
DTSTAMP:20260420T183735
CREATED:20240919T014647Z
LAST-MODIFIED:20240919T014647Z
UID:1865-1725908400-1725912000@www.connected-spirits.com
SUMMARY:Meditation - Online
DESCRIPTION:
URL:https://www.connected-spirits.com/event/meditation-online-67/
LOCATION:Online\, via Zoom
ATTACH;FMTTYPE=image/jpeg:https://www.connected-spirits.com/wp-content/uploads/2020/07/cropped-flat-christmas-angel-illustration_23-2148348308.jpg
END:VEVENT
BEGIN:VEVENT
DTSTART;TZID=Australia/Sydney:20240903T190000
DTEND;TZID=Australia/Sydney:20240903T203000
DTSTAMP:20260420T183735
CREATED:20240903T010912Z
LAST-MODIFIED:20240919T011113Z
UID:1847-1725390000-1725395400@www.connected-spirits.com
SUMMARY:Denise Litchfield - Hall service
DESCRIPTION:
URL:https://www.connected-spirits.com/event/denise-litchfield-hall-service-2/
LOCATION:Inner West Cultural Services\, 35-39 Dickson Street\, Newtown
ATTACH;FMTTYPE=image/jpeg:https://www.connected-spirits.com/wp-content/uploads/2020/10/Denise-Litchfield-clairvoyant.jpg
END:VEVENT
BEGIN:VEVENT
DTSTART;TZID=Australia/Sydney:20240826T190000
DTEND;TZID=Australia/Sydney:20240826T200000
DTSTAMP:20260420T183735
CREATED:20240919T014530Z
LAST-MODIFIED:20240919T014530Z
UID:1863-1724698800-1724702400@www.connected-spirits.com
SUMMARY:Meditation - Online
DESCRIPTION:
URL:https://www.connected-spirits.com/event/meditation-online-66/
LOCATION:Online\, via Zoom
ATTACH;FMTTYPE=image/jpeg:https://www.connected-spirits.com/wp-content/uploads/2020/07/cropped-flat-christmas-angel-illustration_23-2148348308.jpg
END:VEVENT
BEGIN:VEVENT
DTSTART;TZID=Australia/Sydney:20240820T193000
DTEND;TZID=Australia/Sydney:20240820T210000
DTSTAMP:20260420T183735
CREATED:20240919T011617Z
LAST-MODIFIED:20240919T011617Z
UID:1853-1724182200-1724187600@www.connected-spirits.com
SUMMARY:Angela Foster - online service
DESCRIPTION:
URL:https://www.connected-spirits.com/event/angela-foster-online-service-3/
LOCATION:Online\, via Zoom
ATTACH;FMTTYPE=image/jpeg:https://www.connected-spirits.com/wp-content/uploads/2022/11/Angela-Foster.jpg
END:VEVENT
BEGIN:VEVENT
DTSTART;TZID=Australia/Sydney:20240812T190000
DTEND;TZID=Australia/Sydney:20240812T200000
DTSTAMP:20260420T183735
CREATED:20240919T011233Z
LAST-MODIFIED:20240919T011337Z
UID:1850-1723489200-1723492800@www.connected-spirits.com
SUMMARY:Meditation - Online
DESCRIPTION:
URL:https://www.connected-spirits.com/event/meditation-online-65/
LOCATION:Online\, via Zoom
ATTACH;FMTTYPE=image/jpeg:https://www.connected-spirits.com/wp-content/uploads/2020/07/cropped-flat-christmas-angel-illustration_23-2148348308.jpg
END:VEVENT
BEGIN:VEVENT
DTSTART;TZID=Australia/Sydney:20240806T190000
DTEND;TZID=Australia/Sydney:20240806T203000
DTSTAMP:20260420T183735
CREATED:20240702T211354Z
LAST-MODIFIED:20240702T211447Z
UID:1820-1722970800-1722976200@www.connected-spirits.com
SUMMARY:Maria Krystyna - Hall service
DESCRIPTION:
URL:https://www.connected-spirits.com/event/maria-krystyna-hall-service-3/
LOCATION:Inner West Cultural Services\, 35-39 Dickson Street\, Newtown
ATTACH;FMTTYPE=image/jpeg:https://www.connected-spirits.com/wp-content/uploads/2019/08/MK-Home.jpg
END:VEVENT
BEGIN:VEVENT
DTSTART;TZID=Australia/Sydney:20240722T190000
DTEND;TZID=Australia/Sydney:20240722T200000
DTSTAMP:20260420T183735
CREATED:20240702T211258Z
LAST-MODIFIED:20240702T211258Z
UID:1818-1721674800-1721678400@www.connected-spirits.com
SUMMARY:Meditation - Online
DESCRIPTION:
URL:https://www.connected-spirits.com/event/meditation-online-64/
LOCATION:Online\, via Zoom
ATTACH;FMTTYPE=image/jpeg:https://www.connected-spirits.com/wp-content/uploads/2020/07/cropped-flat-christmas-angel-illustration_23-2148348308.jpg
END:VEVENT
BEGIN:VEVENT
DTSTART;TZID=Australia/Sydney:20240716T193000
DTEND;TZID=Australia/Sydney:20240716T210000
DTSTAMP:20260420T183735
CREATED:20240702T211208Z
LAST-MODIFIED:20240702T211524Z
UID:1816-1721158200-1721163600@www.connected-spirits.com
SUMMARY:Lawrence Savill - online service
DESCRIPTION:
URL:https://www.connected-spirits.com/event/lawrence-savill-online-service-3/
LOCATION:Online\, via Zoom
ATTACH;FMTTYPE=image/jpeg:https://www.connected-spirits.com/wp-content/uploads/2023/11/Lawrence-Savill-cropped.jpg
END:VEVENT
BEGIN:VEVENT
DTSTART;TZID=Australia/Sydney:20240708T190000
DTEND;TZID=Australia/Sydney:20240708T200000
DTSTAMP:20260420T183735
CREATED:20240622T045729Z
LAST-MODIFIED:20240622T045729Z
UID:1807-1720465200-1720468800@www.connected-spirits.com
SUMMARY:Meditation - Online
DESCRIPTION:
URL:https://www.connected-spirits.com/event/meditation-online-63/
LOCATION:Online\, via Zoom
ATTACH;FMTTYPE=image/jpeg:https://www.connected-spirits.com/wp-content/uploads/2020/07/cropped-flat-christmas-angel-illustration_23-2148348308.jpg
END:VEVENT
BEGIN:VEVENT
DTSTART;TZID=Australia/Sydney:20240702T190000
DTEND;TZID=Australia/Sydney:20240702T203000
DTSTAMP:20260420T183735
CREATED:20240622T045649Z
LAST-MODIFIED:20240622T045649Z
UID:1804-1719946800-1719952200@www.connected-spirits.com
SUMMARY:Robin Lamb - Hall service
DESCRIPTION:
URL:https://www.connected-spirits.com/event/robin-lamb-hall-service-3/
LOCATION:Inner West Cultural Services\, 35-39 Dickson Street\, Newtown
ATTACH;FMTTYPE=image/jpeg:https://www.connected-spirits.com/wp-content/uploads/2019/10/Robin-Lamb.jpg
END:VEVENT
BEGIN:VEVENT
DTSTART;TZID=Australia/Sydney:20240624T190000
DTEND;TZID=Australia/Sydney:20240624T200000
DTSTAMP:20260420T183735
CREATED:20240622T045559Z
LAST-MODIFIED:20240622T045559Z
UID:1802-1719255600-1719259200@www.connected-spirits.com
SUMMARY:Meditation - Online
DESCRIPTION:
URL:https://www.connected-spirits.com/event/meditation-online-62/
LOCATION:Online\, via Zoom
ATTACH;FMTTYPE=image/jpeg:https://www.connected-spirits.com/wp-content/uploads/2020/07/cropped-flat-christmas-angel-illustration_23-2148348308.jpg
END:VEVENT
BEGIN:VEVENT
DTSTART;TZID=Australia/Sydney:20240618T193000
DTEND;TZID=Australia/Sydney:20240618T210000
DTSTAMP:20260420T183735
CREATED:20240622T045523Z
LAST-MODIFIED:20240622T045523Z
UID:1799-1718739000-1718744400@www.connected-spirits.com
SUMMARY:Val Hood - online service
DESCRIPTION:
URL:https://www.connected-spirits.com/event/val-hood-online-service-6/
LOCATION:Online\, via Zoom
ATTACH;FMTTYPE=image/jpeg:https://www.connected-spirits.com/wp-content/uploads/2021/03/val-image.jpg
END:VEVENT
BEGIN:VEVENT
DTSTART;TZID=Australia/Sydney:20240604T190000
DTEND;TZID=Australia/Sydney:20240604T203000
DTSTAMP:20260420T183735
CREATED:20240508T084754Z
LAST-MODIFIED:20240508T084815Z
UID:1781-1717527600-1717533000@www.connected-spirits.com
SUMMARY:Marcia Quinton - Hall service
DESCRIPTION:
URL:https://www.connected-spirits.com/event/marcia-quinton-hall-service/
LOCATION:Inner West Cultural Services\, 35-39 Dickson Street\, Newtown
ATTACH;FMTTYPE=image/jpeg:https://www.connected-spirits.com/wp-content/uploads/2024/05/MarciaHeadShots-017.jpg
END:VEVENT
BEGIN:VEVENT
DTSTART;TZID=Australia/Sydney:20240527T190000
DTEND;TZID=Australia/Sydney:20240527T200000
DTSTAMP:20260420T183735
CREATED:20240508T084646Z
LAST-MODIFIED:20240508T084646Z
UID:1779-1716836400-1716840000@www.connected-spirits.com
SUMMARY:Meditation - Online
DESCRIPTION:
URL:https://www.connected-spirits.com/event/meditation-online-61/
LOCATION:Online\, via Zoom
ATTACH;FMTTYPE=image/jpeg:https://www.connected-spirits.com/wp-content/uploads/2020/07/cropped-flat-christmas-angel-illustration_23-2148348308.jpg
END:VEVENT
END:VCALENDAR