BEGIN:VCALENDAR
VERSION:2.0
PRODID:-//Connected Spirits - ECPv6.15.20//NONSGML v1.0//EN
CALSCALE:GREGORIAN
METHOD:PUBLISH
X-ORIGINAL-URL:https://www.connected-spirits.com
X-WR-CALDESC:Events for Connected Spirits
REFRESH-INTERVAL;VALUE=DURATION:PT1H
X-Robots-Tag:noindex
X-PUBLISHED-TTL:PT1H
BEGIN:VTIMEZONE
TZID:Australia/Sydney
BEGIN:STANDARD
TZOFFSETFROM:+1100
TZOFFSETTO:+1000
TZNAME:AEST
DTSTART:20200404T160000
END:STANDARD
BEGIN:DAYLIGHT
TZOFFSETFROM:+1000
TZOFFSETTO:+1100
TZNAME:AEDT
DTSTART:20201003T160000
END:DAYLIGHT
BEGIN:STANDARD
TZOFFSETFROM:+1100
TZOFFSETTO:+1000
TZNAME:AEST
DTSTART:20210403T160000
END:STANDARD
BEGIN:DAYLIGHT
TZOFFSETFROM:+1000
TZOFFSETTO:+1100
TZNAME:AEDT
DTSTART:20211002T160000
END:DAYLIGHT
BEGIN:STANDARD
TZOFFSETFROM:+1100
TZOFFSETTO:+1000
TZNAME:AEST
DTSTART:20220402T160000
END:STANDARD
BEGIN:DAYLIGHT
TZOFFSETFROM:+1000
TZOFFSETTO:+1100
TZNAME:AEDT
DTSTART:20221001T160000
END:DAYLIGHT
END:VTIMEZONE
BEGIN:VEVENT
DTSTART;TZID=Australia/Sydney:20210927T190000
DTEND;TZID=Australia/Sydney:20210927T200000
DTSTAMP:20260421T113635
CREATED:20210406T202655Z
LAST-MODIFIED:20210407T044955Z
UID:658-1632769200-1632772800@www.connected-spirits.com
SUMMARY:Meditation - Online
DESCRIPTION:
URL:https://www.connected-spirits.com/event/meditation-online-10/
LOCATION:Online\, via Zoom
ATTACH;FMTTYPE=image/jpeg:https://www.connected-spirits.com/wp-content/uploads/2020/07/cropped-flat-christmas-angel-illustration_23-2148348308.jpg
END:VEVENT
BEGIN:VEVENT
DTSTART;TZID=Australia/Sydney:20210921T190000
DTEND;TZID=Australia/Sydney:20210921T203000
DTSTAMP:20260421T113635
CREATED:20210406T200751Z
LAST-MODIFIED:20210907T110935Z
UID:623-1632250800-1632256200@www.connected-spirits.com
SUMMARY:Chrissie Waters - Online service
DESCRIPTION:
URL:https://www.connected-spirits.com/event/chrissie-waters-online-service/
LOCATION:Online\, via Zoom
ATTACH;FMTTYPE=image/jpeg:https://www.connected-spirits.com/wp-content/uploads/2021/04/Chrissie-Waters.jpg
END:VEVENT
BEGIN:VEVENT
DTSTART;TZID=Australia/Sydney:20210913T190000
DTEND;TZID=Australia/Sydney:20210913T200000
DTSTAMP:20260421T113635
CREATED:20210406T202627Z
LAST-MODIFIED:20210407T044933Z
UID:656-1631559600-1631563200@www.connected-spirits.com
SUMMARY:Meditation - Online
DESCRIPTION:
URL:https://www.connected-spirits.com/event/meditation-online-9/
LOCATION:Online\, via Zoom
ATTACH;FMTTYPE=image/jpeg:https://www.connected-spirits.com/wp-content/uploads/2020/07/cropped-flat-christmas-angel-illustration_23-2148348308.jpg
END:VEVENT
BEGIN:VEVENT
DTSTART;TZID=Australia/Sydney:20210907T190000
DTEND;TZID=Australia/Sydney:20210907T203000
DTSTAMP:20260421T113635
CREATED:20210406T201559Z
LAST-MODIFIED:20210818T193711Z
UID:635-1631041200-1631046600@www.connected-spirits.com
SUMMARY:Simone Jones and Ian Tamplin - Online service
DESCRIPTION:
URL:https://www.connected-spirits.com/event/simone-and-ian-onlin-service/
LOCATION:Inner West Cultural Services\, 35-39 Dickson Street\, Newtown
END:VEVENT
BEGIN:VEVENT
DTSTART;TZID=Australia/Sydney:20210823T190000
DTEND;TZID=Australia/Sydney:20210823T200000
DTSTAMP:20260421T113635
CREATED:20210406T202552Z
LAST-MODIFIED:20210407T044911Z
UID:654-1629745200-1629748800@www.connected-spirits.com
SUMMARY:Meditation - Online
DESCRIPTION:
URL:https://www.connected-spirits.com/event/meditation-online-8/
LOCATION:Online\, via Zoom
ATTACH;FMTTYPE=image/jpeg:https://www.connected-spirits.com/wp-content/uploads/2020/07/cropped-flat-christmas-angel-illustration_23-2148348308.jpg
END:VEVENT
BEGIN:VEVENT
DTSTART;TZID=Australia/Sydney:20210817T190000
DTEND;TZID=Australia/Sydney:20210817T203000
DTSTAMP:20260421T113635
CREATED:20210406T200108Z
LAST-MODIFIED:20210406T224011Z
UID:620-1629226800-1629232200@www.connected-spirits.com
SUMMARY:Martin Colclough - Online service
DESCRIPTION:
URL:https://www.connected-spirits.com/event/martin-colclough-online-service/
LOCATION:Online\, via Zoom
ATTACH;FMTTYPE=image/jpeg:https://www.connected-spirits.com/wp-content/uploads/2021/04/1566910719481.jpg
END:VEVENT
BEGIN:VEVENT
DTSTART;TZID=Australia/Sydney:20210809T190000
DTEND;TZID=Australia/Sydney:20210809T200000
DTSTAMP:20260421T113635
CREATED:20210406T202523Z
LAST-MODIFIED:20210407T044849Z
UID:652-1628535600-1628539200@www.connected-spirits.com
SUMMARY:Meditation - Online
DESCRIPTION:
URL:https://www.connected-spirits.com/event/meditation-online-7/
LOCATION:Online\, via Zoom
ATTACH;FMTTYPE=image/jpeg:https://www.connected-spirits.com/wp-content/uploads/2020/07/cropped-flat-christmas-angel-illustration_23-2148348308.jpg
END:VEVENT
BEGIN:VEVENT
DTSTART;TZID=Australia/Sydney:20210803T190000
DTEND;TZID=Australia/Sydney:20210803T203000
DTSTAMP:20260421T113635
CREATED:20210406T201437Z
LAST-MODIFIED:20210802T214908Z
UID:632-1628017200-1628022600@www.connected-spirits.com
SUMMARY:Janelle Campbell - Online
DESCRIPTION:
URL:https://www.connected-spirits.com/event/janelle-campbell-online/
LOCATION:Inner West Cultural Services\, 35-39 Dickson Street\, Newtown
ATTACH;FMTTYPE=image/jpeg:https://www.connected-spirits.com/wp-content/uploads/2019/04/Image-of-JC-in-park-3.jpg
END:VEVENT
BEGIN:VEVENT
DTSTART;TZID=Australia/Sydney:20210726T190000
DTEND;TZID=Australia/Sydney:20210726T200000
DTSTAMP:20260421T113635
CREATED:20210406T202438Z
LAST-MODIFIED:20210407T044832Z
UID:650-1627326000-1627329600@www.connected-spirits.com
SUMMARY:Meditation - Online
DESCRIPTION:
URL:https://www.connected-spirits.com/event/meditation-online-6/
LOCATION:Online\, via Zoom
ATTACH;FMTTYPE=image/jpeg:https://www.connected-spirits.com/wp-content/uploads/2020/07/cropped-flat-christmas-angel-illustration_23-2148348308.jpg
END:VEVENT
BEGIN:VEVENT
DTSTART;TZID=Australia/Sydney:20210720T190000
DTEND;TZID=Australia/Sydney:20210720T203000
DTSTAMP:20260421T113635
CREATED:20210406T200000Z
LAST-MODIFIED:20210406T200017Z
UID:616-1626807600-1626813000@www.connected-spirits.com
SUMMARY:Jenny Docherty - Online service
DESCRIPTION:
URL:https://www.connected-spirits.com/event/jenny-docherty-online-service/
LOCATION:Online\, via Zoom
ATTACH;FMTTYPE=image/jpeg:https://www.connected-spirits.com/wp-content/uploads/2020/10/Jenny-Docherty-1.jpg
END:VEVENT
BEGIN:VEVENT
DTSTART;TZID=Australia/Sydney:20210712T190000
DTEND;TZID=Australia/Sydney:20210712T200000
DTSTAMP:20260421T113635
CREATED:20210406T202359Z
LAST-MODIFIED:20210407T044816Z
UID:648-1626116400-1626120000@www.connected-spirits.com
SUMMARY:Meditation - Online
DESCRIPTION:
URL:https://www.connected-spirits.com/event/meditation-online-5/
LOCATION:Online\, via Zoom
ATTACH;FMTTYPE=image/jpeg:https://www.connected-spirits.com/wp-content/uploads/2020/07/cropped-flat-christmas-angel-illustration_23-2148348308.jpg
END:VEVENT
BEGIN:VEVENT
DTSTART;TZID=Australia/Sydney:20210706T190000
DTEND;TZID=Australia/Sydney:20210706T203000
DTSTAMP:20260421T113635
CREATED:20210406T201327Z
LAST-MODIFIED:20210626T080340Z
UID:629-1625598000-1625603400@www.connected-spirits.com
SUMMARY:Val Hood - Online service
DESCRIPTION:
URL:https://www.connected-spirits.com/event/val-hood-online-service/
LOCATION:Online\, via Zoom
ATTACH;FMTTYPE=image/jpeg:https://www.connected-spirits.com/wp-content/uploads/2021/03/val-image.jpg
END:VEVENT
BEGIN:VEVENT
DTSTART;TZID=Australia/Sydney:20210621T190000
DTEND;TZID=Australia/Sydney:20210621T200000
DTSTAMP:20260421T113635
CREATED:20210406T201956Z
LAST-MODIFIED:20210407T044659Z
UID:646-1624302000-1624305600@www.connected-spirits.com
SUMMARY:Meditation - Online
DESCRIPTION:
URL:https://www.connected-spirits.com/event/meditation-online-4/
LOCATION:Online\, via Zoom
ATTACH;FMTTYPE=image/jpeg:https://www.connected-spirits.com/wp-content/uploads/2020/07/cropped-flat-christmas-angel-illustration_23-2148348308.jpg
END:VEVENT
BEGIN:VEVENT
DTSTART;TZID=Australia/Sydney:20210615T190000
DTEND;TZID=Australia/Sydney:20210615T203000
DTSTAMP:20260421T113635
CREATED:20210406T195908Z
LAST-MODIFIED:20210406T212743Z
UID:613-1623783600-1623789000@www.connected-spirits.com
SUMMARY:Sheila French - Online service
DESCRIPTION:
URL:https://www.connected-spirits.com/event/sheila-french-online-service/
LOCATION:Online\, via Zoom
ATTACH;FMTTYPE=image/jpeg:https://www.connected-spirits.com/wp-content/uploads/2021/04/Sheila-French.jpg
END:VEVENT
BEGIN:VEVENT
DTSTART;TZID=Australia/Sydney:20210607T190000
DTEND;TZID=Australia/Sydney:20210607T200000
DTSTAMP:20260421T113635
CREATED:20210406T201919Z
LAST-MODIFIED:20210407T044613Z
UID:644-1623092400-1623096000@www.connected-spirits.com
SUMMARY:Meditation - Online
DESCRIPTION:
URL:https://www.connected-spirits.com/event/meditation-online-3/
LOCATION:Online\, via Zoom
ATTACH;FMTTYPE=image/jpeg:https://www.connected-spirits.com/wp-content/uploads/2020/07/cropped-flat-christmas-angel-illustration_23-2148348308.jpg
END:VEVENT
BEGIN:VEVENT
DTSTART;TZID=Australia/Sydney:20210601T190000
DTEND;TZID=Australia/Sydney:20210601T203000
DTSTAMP:20260421T113635
CREATED:20210406T201152Z
LAST-MODIFIED:20210406T201152Z
UID:626-1622574000-1622579400@www.connected-spirits.com
SUMMARY:Denise Litchfield - Hall service
DESCRIPTION:
URL:https://www.connected-spirits.com/event/denise-litchfield-hall-service/
LOCATION:Inner West Cultural Services\, 35-39 Dickson Street\, Newtown
ATTACH;FMTTYPE=image/jpeg:https://www.connected-spirits.com/wp-content/uploads/2020/10/Denise-Litchfield-clairvoyant.jpg
END:VEVENT
BEGIN:VEVENT
DTSTART;TZID=Australia/Sydney:20210524T190000
DTEND;TZID=Australia/Sydney:20210524T200000
DTSTAMP:20260421T113635
CREATED:20210406T053223Z
LAST-MODIFIED:20210407T044138Z
UID:611-1621882800-1621886400@www.connected-spirits.com
SUMMARY:Meditation - Online
DESCRIPTION:
URL:https://www.connected-spirits.com/event/meditation-online-2/
LOCATION:Online\, via Zoom
ATTACH;FMTTYPE=image/jpeg:https://www.connected-spirits.com/wp-content/uploads/2020/07/cropped-flat-christmas-angel-illustration_23-2148348308.jpg
END:VEVENT
BEGIN:VEVENT
DTSTART;TZID=Australia/Sydney:20210518T190000
DTEND;TZID=Australia/Sydney:20210518T203000
DTSTAMP:20260421T113635
CREATED:20210406T003610Z
LAST-MODIFIED:20210406T051826Z
UID:585-1621364400-1621369800@www.connected-spirits.com
SUMMARY:Tim Abbott - Online service
DESCRIPTION:
URL:https://www.connected-spirits.com/event/tim-abbott/
LOCATION:Online\, via Zoom
ATTACH;FMTTYPE=image/jpeg:https://www.connected-spirits.com/wp-content/uploads/2021/04/9b54c3d1-5773-4239-87f6-01b845e5fe74.jpg
END:VEVENT
BEGIN:VEVENT
DTSTART;TZID=Australia/Sydney:20210510T190000
DTEND;TZID=Australia/Sydney:20210510T200000
DTSTAMP:20260421T113635
CREATED:20210406T053137Z
LAST-MODIFIED:20210407T044111Z
UID:609-1620673200-1620676800@www.connected-spirits.com
SUMMARY:Meditation - Online
DESCRIPTION:
URL:https://www.connected-spirits.com/event/meditation-online/
LOCATION:Online\, via Zoom
ATTACH;FMTTYPE=image/jpeg:https://www.connected-spirits.com/wp-content/uploads/2020/07/flat-christmas-angel-illustration_23-2148348308.jpg
END:VEVENT
BEGIN:VEVENT
DTSTART;TZID=Australia/Sydney:20210504T190000
DTEND;TZID=Australia/Sydney:20210504T203000
DTSTAMP:20260421T113635
CREATED:20210406T002727Z
LAST-MODIFIED:20210406T051840Z
UID:574-1620154800-1620160200@www.connected-spirits.com
SUMMARY:Loretta Byrne - Hall service
DESCRIPTION:
URL:https://www.connected-spirits.com/event/loretta-byrne/
LOCATION:Inner West Cultural Services\, 35-39 Dickson Street\, Newtown
ATTACH;FMTTYPE=image/jpeg:https://www.connected-spirits.com/wp-content/uploads/2019/03/loretta-byrne.jpeg
END:VEVENT
BEGIN:VEVENT
DTSTART;TZID=Australia/Sydney:20210426T190000
DTEND;TZID=Australia/Sydney:20210426T200000
DTSTAMP:20260421T113635
CREATED:20210406T003334Z
LAST-MODIFIED:20210407T043920Z
UID:583-1619463600-1619467200@www.connected-spirits.com
SUMMARY:Meditation - Online
DESCRIPTION:
URL:https://www.connected-spirits.com/event/meditation-2/
LOCATION:Online\, via Zoom
ATTACH;FMTTYPE=image/jpeg:https://www.connected-spirits.com/wp-content/uploads/2020/07/flat-christmas-angel-illustration_23-2148348308.jpg
END:VEVENT
BEGIN:VEVENT
DTSTART;TZID=Australia/Sydney:20210420T190000
DTEND;TZID=Australia/Sydney:20210420T203000
DTSTAMP:20260421T113635
CREATED:20210406T002504Z
LAST-MODIFIED:20210407T042825Z
UID:570-1618945200-1618950600@www.connected-spirits.com
SUMMARY:Chrissie Waters - Online service
DESCRIPTION:
URL:https://www.connected-spirits.com/event/chrissie-waters/
LOCATION:Online\, via Zoom
ATTACH;FMTTYPE=image/jpeg:https://www.connected-spirits.com/wp-content/uploads/2021/04/Chrissie-Waters.jpg
END:VEVENT
BEGIN:VEVENT
DTSTART;TZID=Australia/Sydney:20210412T190000
DTEND;TZID=Australia/Sydney:20210412T200000
DTSTAMP:20260421T113635
CREATED:20210406T003122Z
LAST-MODIFIED:20210407T043718Z
UID:579-1618254000-1618257600@www.connected-spirits.com
SUMMARY:Meditation - Online
DESCRIPTION:
URL:https://www.connected-spirits.com/event/meditation/
LOCATION:Online\, via Zoom
ATTACH;FMTTYPE=image/jpeg:https://www.connected-spirits.com/wp-content/uploads/2020/07/cropped-flat-christmas-angel-illustration_23-2148348308.jpg
END:VEVENT
BEGIN:VEVENT
DTSTART;TZID=Australia/Sydney:20210406T190000
DTEND;TZID=Australia/Sydney:20210406T203000
DTSTAMP:20260421T113635
CREATED:20210406T001817Z
LAST-MODIFIED:20210406T051902Z
UID:562-1617735600-1617741000@www.connected-spirits.com
SUMMARY:Val Hood - Online service
DESCRIPTION:
URL:https://www.connected-spirits.com/event/val-hood/
LOCATION:Online\, via Zoom
ATTACH;FMTTYPE=image/jpeg:https://www.connected-spirits.com/wp-content/uploads/2021/03/val-image.jpg
END:VEVENT
END:VCALENDAR