BEGIN:VCALENDAR
VERSION:2.0
PRODID:-//Connected Spirits - ECPv6.15.20//NONSGML v1.0//EN
CALSCALE:GREGORIAN
METHOD:PUBLISH
X-WR-CALNAME:Connected Spirits
X-ORIGINAL-URL:https://www.connected-spirits.com
X-WR-CALDESC:Events for Connected Spirits
REFRESH-INTERVAL;VALUE=DURATION:PT1H
X-Robots-Tag:noindex
X-PUBLISHED-TTL:PT1H
BEGIN:VTIMEZONE
TZID:Australia/Sydney
BEGIN:STANDARD
TZOFFSETFROM:+1100
TZOFFSETTO:+1000
TZNAME:AEST
DTSTART:20220402T160000
END:STANDARD
BEGIN:DAYLIGHT
TZOFFSETFROM:+1000
TZOFFSETTO:+1100
TZNAME:AEDT
DTSTART:20221001T160000
END:DAYLIGHT
BEGIN:STANDARD
TZOFFSETFROM:+1100
TZOFFSETTO:+1000
TZNAME:AEST
DTSTART:20230401T160000
END:STANDARD
BEGIN:DAYLIGHT
TZOFFSETFROM:+1000
TZOFFSETTO:+1100
TZNAME:AEDT
DTSTART:20230930T160000
END:DAYLIGHT
BEGIN:STANDARD
TZOFFSETFROM:+1100
TZOFFSETTO:+1000
TZNAME:AEST
DTSTART:20240406T160000
END:STANDARD
BEGIN:DAYLIGHT
TZOFFSETFROM:+1000
TZOFFSETTO:+1100
TZNAME:AEDT
DTSTART:20241005T160000
END:DAYLIGHT
BEGIN:STANDARD
TZOFFSETFROM:+1100
TZOFFSETTO:+1000
TZNAME:AEST
DTSTART:20250405T160000
END:STANDARD
BEGIN:DAYLIGHT
TZOFFSETFROM:+1000
TZOFFSETTO:+1100
TZNAME:AEDT
DTSTART:20251004T160000
END:DAYLIGHT
END:VTIMEZONE
BEGIN:VEVENT
DTSTART;TZID=Australia/Sydney:20240402T190000
DTEND;TZID=Australia/Sydney:20240402T203000
DTSTAMP:20260420T231732
CREATED:20240306T201631Z
LAST-MODIFIED:20240306T201631Z
UID:1737-1712084400-1712089800@www.connected-spirits.com
SUMMARY:Janelle Campbell - Hall service
DESCRIPTION:
URL:https://www.connected-spirits.com/event/janelle-campbell-hall-service-2/
LOCATION:Inner West Cultural Services\, 35-39 Dickson Street\, Newtown
ATTACH;FMTTYPE=image/jpeg:https://www.connected-spirits.com/wp-content/uploads/2019/04/Image-of-JC-in-park-3.jpg
END:VEVENT
BEGIN:VEVENT
DTSTART;TZID=Australia/Sydney:20240324T190000
DTEND;TZID=Australia/Sydney:20240324T200000
DTSTAMP:20260420T231732
CREATED:20240306T201530Z
LAST-MODIFIED:20240306T201530Z
UID:1735-1711306800-1711310400@www.connected-spirits.com
SUMMARY:Meditation - Online
DESCRIPTION:
URL:https://www.connected-spirits.com/event/meditation-online-57/
LOCATION:Online\, via Zoom
ATTACH;FMTTYPE=image/jpeg:https://www.connected-spirits.com/wp-content/uploads/2020/07/cropped-flat-christmas-angel-illustration_23-2148348308.jpg
END:VEVENT
BEGIN:VEVENT
DTSTART;TZID=Australia/Sydney:20240319T193000
DTEND;TZID=Australia/Sydney:20240319T203000
DTSTAMP:20260420T231732
CREATED:20240306T201449Z
LAST-MODIFIED:20240306T201449Z
UID:1733-1710876600-1710880200@www.connected-spirits.com
SUMMARY:Margaret Challenger - online service
DESCRIPTION:
URL:https://www.connected-spirits.com/event/margaret-challenger-online-service-4/
LOCATION:Online\, via Zoom
ATTACH;FMTTYPE=image/jpeg:https://www.connected-spirits.com/wp-content/uploads/2022/05/Margaret-Challenger.jpg
END:VEVENT
BEGIN:VEVENT
DTSTART;TZID=Australia/Sydney:20240311T190000
DTEND;TZID=Australia/Sydney:20240311T200000
DTSTAMP:20260420T231732
CREATED:20240227T051816Z
LAST-MODIFIED:20240227T051816Z
UID:1726-1710183600-1710187200@www.connected-spirits.com
SUMMARY:Meditation - Online
DESCRIPTION:
URL:https://www.connected-spirits.com/event/meditation-online-56/
LOCATION:Online\, via Zoom
ATTACH;FMTTYPE=image/jpeg:https://www.connected-spirits.com/wp-content/uploads/2020/07/cropped-flat-christmas-angel-illustration_23-2148348308.jpg
END:VEVENT
BEGIN:VEVENT
DTSTART;TZID=Australia/Sydney:20240305T190000
DTEND;TZID=Australia/Sydney:20240305T203000
DTSTAMP:20260420T231732
CREATED:20240227T051627Z
LAST-MODIFIED:20240227T051652Z
UID:1717-1709665200-1709670600@www.connected-spirits.com
SUMMARY:Simon Jones - Hall service
DESCRIPTION:
URL:https://www.connected-spirits.com/event/simon-jones-hall-service/
LOCATION:Inner West Cultural Services\, 35-39 Dickson Street\, Newtown
ATTACH;FMTTYPE=image/jpeg:https://www.connected-spirits.com/wp-content/uploads/2021/12/Simone-Jones.jpg
END:VEVENT
BEGIN:VEVENT
DTSTART;TZID=Australia/Sydney:20240226T190000
DTEND;TZID=Australia/Sydney:20240226T200000
DTSTAMP:20260420T231732
CREATED:20240227T051736Z
LAST-MODIFIED:20240227T051736Z
UID:1724-1708974000-1708977600@www.connected-spirits.com
SUMMARY:Meditation - Online
DESCRIPTION:
URL:https://www.connected-spirits.com/event/meditation-online-55/
LOCATION:Online\, via Zoom
ATTACH;FMTTYPE=image/jpeg:https://www.connected-spirits.com/wp-content/uploads/2020/07/cropped-flat-christmas-angel-illustration_23-2148348308.jpg
END:VEVENT
BEGIN:VEVENT
DTSTART;TZID=Australia/Sydney:20240220T190000
DTEND;TZID=Australia/Sydney:20240220T203000
DTSTAMP:20260420T231732
CREATED:20240227T051537Z
LAST-MODIFIED:20240227T051537Z
UID:1718-1708455600-1708461000@www.connected-spirits.com
SUMMARY:Val Hood - online service
DESCRIPTION:
URL:https://www.connected-spirits.com/event/val-hood-online-service-5/
LOCATION:Online\, via Zoom
ATTACH;FMTTYPE=image/jpeg:https://www.connected-spirits.com/wp-content/uploads/2021/03/val-image.jpg
END:VEVENT
BEGIN:VEVENT
DTSTART;TZID=Australia/Sydney:20240212T190000
DTEND;TZID=Australia/Sydney:20240212T200000
DTSTAMP:20260420T231732
CREATED:20240108T051832Z
LAST-MODIFIED:20240108T051832Z
UID:1708-1707764400-1707768000@www.connected-spirits.com
SUMMARY:Meditation - Online
DESCRIPTION:
URL:https://www.connected-spirits.com/event/meditation-online-54/
LOCATION:Online\, via Zoom
ATTACH;FMTTYPE=image/jpeg:https://www.connected-spirits.com/wp-content/uploads/2020/07/cropped-flat-christmas-angel-illustration_23-2148348308.jpg
END:VEVENT
BEGIN:VEVENT
DTSTART;TZID=Australia/Sydney:20240206T190000
DTEND;TZID=Australia/Sydney:20240206T203000
DTSTAMP:20260420T231732
CREATED:20240108T051804Z
LAST-MODIFIED:20240108T051804Z
UID:1706-1707246000-1707251400@www.connected-spirits.com
SUMMARY:Ben Graham - Hall service
DESCRIPTION:
URL:https://www.connected-spirits.com/event/ben-graham-hall-service-3/
LOCATION:Inner West Cultural Services\, 35-39 Dickson Street\, Newtown
ATTACH;FMTTYPE=image/jpeg:https://www.connected-spirits.com/wp-content/uploads/2022/04/Ben-Graham.jpg
END:VEVENT
BEGIN:VEVENT
DTSTART;TZID=Australia/Sydney:20231127T190000
DTEND;TZID=Australia/Sydney:20231127T200000
DTSTAMP:20260420T231732
CREATED:20230706T014652Z
LAST-MODIFIED:20230706T014652Z
UID:1625-1701111600-1701115200@www.connected-spirits.com
SUMMARY:Meditation - Online
DESCRIPTION:
URL:https://www.connected-spirits.com/event/meditation-online-53/
LOCATION:Online\, via Zoom
ATTACH;FMTTYPE=image/jpeg:https://www.connected-spirits.com/wp-content/uploads/2020/07/cropped-flat-christmas-angel-illustration_23-2148348308.jpg
END:VEVENT
BEGIN:VEVENT
DTSTART;TZID=Australia/Sydney:20231121T190000
DTEND;TZID=Australia/Sydney:20231121T203000
DTSTAMP:20260420T231732
CREATED:20230706T014627Z
LAST-MODIFIED:20231109T084753Z
UID:1623-1700593200-1700598600@www.connected-spirits.com
SUMMARY:Lawrence Savill - online service
DESCRIPTION:
URL:https://www.connected-spirits.com/event/lawrence-savill-online-service-2/
LOCATION:Online\, via Zoom
ATTACH;FMTTYPE=image/jpeg:https://www.connected-spirits.com/wp-content/uploads/2023/11/Lawrence-Savill-cropped.jpg
END:VEVENT
BEGIN:VEVENT
DTSTART;TZID=Australia/Sydney:20231113T190000
DTEND;TZID=Australia/Sydney:20231113T200000
DTSTAMP:20260420T231732
CREATED:20230706T014537Z
LAST-MODIFIED:20230706T014537Z
UID:1621-1699902000-1699905600@www.connected-spirits.com
SUMMARY:Meditation - Online
DESCRIPTION:
URL:https://www.connected-spirits.com/event/meditation-online-52/
LOCATION:Online\, via Zoom
ATTACH;FMTTYPE=image/jpeg:https://www.connected-spirits.com/wp-content/uploads/2020/07/cropped-flat-christmas-angel-illustration_23-2148348308.jpg
END:VEVENT
BEGIN:VEVENT
DTSTART;TZID=Australia/Sydney:20231107T190000
DTEND;TZID=Australia/Sydney:20231107T203000
DTSTAMP:20260420T231732
CREATED:20230706T014513Z
LAST-MODIFIED:20230706T014513Z
UID:1618-1699383600-1699389000@www.connected-spirits.com
SUMMARY:Loretta Byrne and Brett Thomas - Hall service
DESCRIPTION:
URL:https://www.connected-spirits.com/event/loretta-byrne-and-brett-thomas-hall-service/
LOCATION:Inner West Cultural Services\, 35-39 Dickson Street\, Newtown
ATTACH;FMTTYPE=image/jpeg:https://www.connected-spirits.com/wp-content/uploads/2022/10/Lorretta-Byrne-squared.jpg
END:VEVENT
BEGIN:VEVENT
DTSTART;TZID=Australia/Sydney:20231023T190000
DTEND;TZID=Australia/Sydney:20231023T200000
DTSTAMP:20260420T231732
CREATED:20230706T014418Z
LAST-MODIFIED:20230706T014418Z
UID:1616-1698087600-1698091200@www.connected-spirits.com
SUMMARY:Meditation - Online
DESCRIPTION:
URL:https://www.connected-spirits.com/event/meditation-online-51/
LOCATION:Online\, via Zoom
ATTACH;FMTTYPE=image/jpeg:https://www.connected-spirits.com/wp-content/uploads/2020/07/cropped-flat-christmas-angel-illustration_23-2148348308.jpg
END:VEVENT
BEGIN:VEVENT
DTSTART;TZID=Australia/Sydney:20231017T193000
DTEND;TZID=Australia/Sydney:20231017T210000
DTSTAMP:20260420T231732
CREATED:20230706T014346Z
LAST-MODIFIED:20230706T014346Z
UID:1614-1697571000-1697576400@www.connected-spirits.com
SUMMARY:Angela Foster - online service
DESCRIPTION:
URL:https://www.connected-spirits.com/event/angela-foster-online-service-2/
LOCATION:Online\, via Zoom
ATTACH;FMTTYPE=image/jpeg:https://www.connected-spirits.com/wp-content/uploads/2022/11/Angela-Foster.jpg
END:VEVENT
BEGIN:VEVENT
DTSTART;TZID=Australia/Sydney:20231009T190000
DTEND;TZID=Australia/Sydney:20231009T200000
DTSTAMP:20260420T231732
CREATED:20230705T233437Z
LAST-MODIFIED:20230705T233437Z
UID:1612-1696878000-1696881600@www.connected-spirits.com
SUMMARY:Meditation - Online
DESCRIPTION:
URL:https://www.connected-spirits.com/event/meditation-online-50/
LOCATION:Online\, via Zoom
ATTACH;FMTTYPE=image/jpeg:https://www.connected-spirits.com/wp-content/uploads/2020/07/cropped-flat-christmas-angel-illustration_23-2148348308.jpg
END:VEVENT
BEGIN:VEVENT
DTSTART;TZID=Australia/Sydney:20231003T190000
DTEND;TZID=Australia/Sydney:20231003T203000
DTSTAMP:20260420T231732
CREATED:20230705T210126Z
LAST-MODIFIED:20230705T210126Z
UID:1597-1696359600-1696365000@www.connected-spirits.com
SUMMARY:Susan Penno - Hall service
DESCRIPTION:
URL:https://www.connected-spirits.com/event/susan-penno-hall-service/
LOCATION:Inner West Cultural Services\, 35-39 Dickson Street\, Newtown
ATTACH;FMTTYPE=image/jpeg:https://www.connected-spirits.com/wp-content/uploads/2023/07/Susan-Penno.jpg
END:VEVENT
BEGIN:VEVENT
DTSTART;TZID=Australia/Sydney:20230925T190000
DTEND;TZID=Australia/Sydney:20230925T200000
DTSTAMP:20260420T231732
CREATED:20230705T233407Z
LAST-MODIFIED:20230705T233407Z
UID:1610-1695668400-1695672000@www.connected-spirits.com
SUMMARY:Meditation - Online
DESCRIPTION:
URL:https://www.connected-spirits.com/event/meditation-online-49/
LOCATION:Online\, via Zoom
ATTACH;FMTTYPE=image/jpeg:https://www.connected-spirits.com/wp-content/uploads/2020/07/cropped-flat-christmas-angel-illustration_23-2148348308.jpg
END:VEVENT
BEGIN:VEVENT
DTSTART;TZID=Australia/Sydney:20230919T190000
DTEND;TZID=Australia/Sydney:20230919T203000
DTSTAMP:20260420T231732
CREATED:20230705T233343Z
LAST-MODIFIED:20230712T212804Z
UID:1607-1695150000-1695155400@www.connected-spirits.com
SUMMARY:Nicola Neal - online service
DESCRIPTION:
URL:https://www.connected-spirits.com/event/nicola-neal-online-service/
LOCATION:Online\, via Zoom
ATTACH;FMTTYPE=image/jpeg:https://www.connected-spirits.com/wp-content/uploads/2023/07/Nicola-Neal-square.jpg
END:VEVENT
BEGIN:VEVENT
DTSTART;TZID=Australia/Sydney:20230911T190000
DTEND;TZID=Australia/Sydney:20230911T200000
DTSTAMP:20260420T231732
CREATED:20230705T233233Z
LAST-MODIFIED:20230705T233233Z
UID:1605-1694458800-1694462400@www.connected-spirits.com
SUMMARY:Meditation - Online
DESCRIPTION:
URL:https://www.connected-spirits.com/event/meditation-online-48/
LOCATION:Online\, via Zoom
ATTACH;FMTTYPE=image/jpeg:https://www.connected-spirits.com/wp-content/uploads/2020/07/cropped-flat-christmas-angel-illustration_23-2148348308.jpg
END:VEVENT
BEGIN:VEVENT
DTSTART;TZID=Australia/Sydney:20230905T190000
DTEND;TZID=Australia/Sydney:20230905T203000
DTSTAMP:20260420T231732
CREATED:20230705T210018Z
LAST-MODIFIED:20230705T210018Z
UID:1594-1693940400-1693945800@www.connected-spirits.com
SUMMARY:Luda Ost - Hall service
DESCRIPTION:
URL:https://www.connected-spirits.com/event/luda-ost-hall-service/
LOCATION:Inner West Cultural Services\, 35-39 Dickson Street\, Newtown
ATTACH;FMTTYPE=image/jpeg:https://www.connected-spirits.com/wp-content/uploads/2023/07/Luda-Ost.jpg
END:VEVENT
BEGIN:VEVENT
DTSTART;TZID=Australia/Sydney:20230828T190000
DTEND;TZID=Australia/Sydney:20230828T200000
DTSTAMP:20260420T231732
CREATED:20230705T233200Z
LAST-MODIFIED:20230806T235705Z
UID:1603-1693249200-1693252800@www.connected-spirits.com
SUMMARY:Meditation - Online
DESCRIPTION:
URL:https://www.connected-spirits.com/event/meditation-online-47/
LOCATION:Online\, via Zoom
ATTACH;FMTTYPE=image/jpeg:https://www.connected-spirits.com/wp-content/uploads/2020/07/cropped-flat-christmas-angel-illustration_23-2148348308.jpg
END:VEVENT
BEGIN:VEVENT
DTSTART;TZID=Australia/Sydney:20230815T190000
DTEND;TZID=Australia/Sydney:20230815T203000
DTSTAMP:20260420T231732
CREATED:20230704T224325Z
LAST-MODIFIED:20230704T224325Z
UID:1590-1692126000-1692131400@www.connected-spirits.com
SUMMARY:Margaret Challenger - online service
DESCRIPTION:
URL:https://www.connected-spirits.com/event/margaret-challenger-online-service-3/
LOCATION:Online\, via Zoom
ATTACH;FMTTYPE=image/jpeg:https://www.connected-spirits.com/wp-content/uploads/2022/05/Margaret-Challenger.jpg
END:VEVENT
BEGIN:VEVENT
DTSTART;TZID=Australia/Sydney:20230814T190000
DTEND;TZID=Australia/Sydney:20230814T200000
DTSTAMP:20260420T231732
CREATED:20230705T233031Z
LAST-MODIFIED:20230806T235645Z
UID:1600-1692039600-1692043200@www.connected-spirits.com
SUMMARY:Meditation - Online
DESCRIPTION:
URL:https://www.connected-spirits.com/event/meditation-online-46/
LOCATION:Online\, via Zoom
ATTACH;FMTTYPE=image/jpeg:https://www.connected-spirits.com/wp-content/uploads/2020/07/cropped-flat-christmas-angel-illustration_23-2148348308.jpg
END:VEVENT
BEGIN:VEVENT
DTSTART;TZID=Australia/Sydney:20230801T190000
DTEND;TZID=Australia/Sydney:20230801T203000
DTSTAMP:20260420T231732
CREATED:20230703T072446Z
LAST-MODIFIED:20230703T072446Z
UID:1563-1690916400-1690921800@www.connected-spirits.com
SUMMARY:Val Hood - Hall service
DESCRIPTION:
URL:https://www.connected-spirits.com/event/val-hood-hall-service/
LOCATION:Inner West Cultural Services\, 35-39 Dickson Street\, Newtown
ATTACH;FMTTYPE=image/jpeg:https://www.connected-spirits.com/wp-content/uploads/2021/03/val-image.jpg
END:VEVENT
BEGIN:VEVENT
DTSTART;TZID=Australia/Sydney:20230724T190000
DTEND;TZID=Australia/Sydney:20230724T200000
DTSTAMP:20260420T231732
CREATED:20230630T064455Z
LAST-MODIFIED:20230630T064455Z
UID:1398-1690225200-1690228800@www.connected-spirits.com
SUMMARY:Meditation - Online
DESCRIPTION:
URL:https://www.connected-spirits.com/event/meditation-online-45/
LOCATION:Online\, via Zoom
ATTACH;FMTTYPE=image/jpeg:https://www.connected-spirits.com/wp-content/uploads/2020/07/cropped-flat-christmas-angel-illustration_23-2148348308.jpg
END:VEVENT
BEGIN:VEVENT
DTSTART;TZID=Australia/Sydney:20230718T193000
DTEND;TZID=Australia/Sydney:20230718T210000
DTSTAMP:20260420T231732
CREATED:20230620T203945Z
LAST-MODIFIED:20230620T203945Z
UID:1240-1689708600-1689714000@www.connected-spirits.com
SUMMARY:Val Hood - online service
DESCRIPTION:
URL:https://www.connected-spirits.com/event/val-hood-online-service-4/
LOCATION:Online\, via Zoom
ATTACH;FMTTYPE=image/jpeg:https://www.connected-spirits.com/wp-content/uploads/2021/03/val-image.jpg
END:VEVENT
BEGIN:VEVENT
DTSTART;TZID=Australia/Sydney:20230710T190000
DTEND;TZID=Australia/Sydney:20230710T200000
DTSTAMP:20260420T231732
CREATED:20230607T045219Z
LAST-MODIFIED:20230607T045219Z
UID:1233-1689015600-1689019200@www.connected-spirits.com
SUMMARY:Meditation - Online
DESCRIPTION:
URL:https://www.connected-spirits.com/event/meditation-online-44/
LOCATION:Online\, via Zoom
ATTACH;FMTTYPE=image/jpeg:https://www.connected-spirits.com/wp-content/uploads/2020/07/cropped-flat-christmas-angel-illustration_23-2148348308.jpg
END:VEVENT
BEGIN:VEVENT
DTSTART;TZID=Australia/Sydney:20230704T190000
DTEND;TZID=Australia/Sydney:20230704T203000
DTSTAMP:20260420T231732
CREATED:20230607T044901Z
LAST-MODIFIED:20230607T044901Z
UID:1229-1688497200-1688502600@www.connected-spirits.com
SUMMARY:Ben Graham - Hall service
DESCRIPTION:
URL:https://www.connected-spirits.com/event/ben-graham-hall-service-2/
LOCATION:Inner West Cultural Services\, 35-39 Dickson Street\, Newtown
ATTACH;FMTTYPE=image/jpeg:https://www.connected-spirits.com/wp-content/uploads/2022/04/Ben-Graham.jpg
END:VEVENT
BEGIN:VEVENT
DTSTART;TZID=Australia/Sydney:20230626T190000
DTEND;TZID=Australia/Sydney:20230626T200000
DTSTAMP:20260420T231732
CREATED:20230516T103432Z
LAST-MODIFIED:20230516T103432Z
UID:1218-1687806000-1687809600@www.connected-spirits.com
SUMMARY:Meditation - Online
DESCRIPTION:
URL:https://www.connected-spirits.com/event/meditation-online-43/
LOCATION:Online\, via Zoom
ATTACH;FMTTYPE=image/jpeg:https://www.connected-spirits.com/wp-content/uploads/2020/07/cropped-flat-christmas-angel-illustration_23-2148348308.jpg
END:VEVENT
END:VCALENDAR