BEGIN:VCALENDAR
VERSION:2.0
PRODID:-//Connected Spirits - ECPv6.15.20//NONSGML v1.0//EN
CALSCALE:GREGORIAN
METHOD:PUBLISH
X-WR-CALNAME:Connected Spirits
X-ORIGINAL-URL:https://www.connected-spirits.com
X-WR-CALDESC:Events for Connected Spirits
REFRESH-INTERVAL;VALUE=DURATION:PT1H
X-Robots-Tag:noindex
X-PUBLISHED-TTL:PT1H
BEGIN:VTIMEZONE
TZID:Australia/Sydney
BEGIN:STANDARD
TZOFFSETFROM:+1100
TZOFFSETTO:+1000
TZNAME:AEST
DTSTART:20200404T160000
END:STANDARD
BEGIN:DAYLIGHT
TZOFFSETFROM:+1000
TZOFFSETTO:+1100
TZNAME:AEDT
DTSTART:20201003T160000
END:DAYLIGHT
BEGIN:STANDARD
TZOFFSETFROM:+1100
TZOFFSETTO:+1000
TZNAME:AEST
DTSTART:20210403T160000
END:STANDARD
BEGIN:DAYLIGHT
TZOFFSETFROM:+1000
TZOFFSETTO:+1100
TZNAME:AEDT
DTSTART:20211002T160000
END:DAYLIGHT
BEGIN:STANDARD
TZOFFSETFROM:+1100
TZOFFSETTO:+1000
TZNAME:AEST
DTSTART:20220402T160000
END:STANDARD
BEGIN:DAYLIGHT
TZOFFSETFROM:+1000
TZOFFSETTO:+1100
TZNAME:AEDT
DTSTART:20221001T160000
END:DAYLIGHT
BEGIN:STANDARD
TZOFFSETFROM:+1100
TZOFFSETTO:+1000
TZNAME:AEST
DTSTART:20230401T160000
END:STANDARD
BEGIN:DAYLIGHT
TZOFFSETFROM:+1000
TZOFFSETTO:+1100
TZNAME:AEDT
DTSTART:20230930T160000
END:DAYLIGHT
END:VTIMEZONE
BEGIN:VEVENT
DTSTART;TZID=Australia/Sydney:20220906T190000
DTEND;TZID=Australia/Sydney:20220906T203000
DTSTAMP:20260421T065825
CREATED:20220802T204030Z
LAST-MODIFIED:20220903T214220Z
UID:1046-1662490800-1662496200@www.connected-spirits.com
SUMMARY:Robin Lamb - Hall service
DESCRIPTION:
URL:https://www.connected-spirits.com/event/robin-lamb-hall-service/
LOCATION:Inner West Cultural Services\, 35-39 Dickson Street\, Newtown
ATTACH;FMTTYPE=image/jpeg:https://www.connected-spirits.com/wp-content/uploads/2019/10/Robin-Lamb.jpg
END:VEVENT
BEGIN:VEVENT
DTSTART;TZID=Australia/Sydney:20220822T190000
DTEND;TZID=Australia/Sydney:20220822T200000
DTSTAMP:20260421T065825
CREATED:20220722T001819Z
LAST-MODIFIED:20220722T001819Z
UID:1029-1661194800-1661198400@www.connected-spirits.com
SUMMARY:Meditation - Online
DESCRIPTION:
URL:https://www.connected-spirits.com/event/meditation-online-27/
LOCATION:Online\, via Zoom
ATTACH;FMTTYPE=image/jpeg:https://www.connected-spirits.com/wp-content/uploads/2020/07/cropped-flat-christmas-angel-illustration_23-2148348308.jpg
END:VEVENT
BEGIN:VEVENT
DTSTART;TZID=Australia/Sydney:20220816T190000
DTEND;TZID=Australia/Sydney:20220816T203000
DTSTAMP:20260421T065825
CREATED:20220722T001618Z
LAST-MODIFIED:20220802T203855Z
UID:1023-1660676400-1660681800@www.connected-spirits.com
SUMMARY:Val Hood - online service
DESCRIPTION:
URL:https://www.connected-spirits.com/event/val-hood-online-service-3/
LOCATION:Online\, via Zoom
ATTACH;FMTTYPE=image/jpeg:https://www.connected-spirits.com/wp-content/uploads/2021/03/val-image.jpg
END:VEVENT
BEGIN:VEVENT
DTSTART;TZID=Australia/Sydney:20220808T190000
DTEND;TZID=Australia/Sydney:20220808T200000
DTSTAMP:20260421T065825
CREATED:20220722T001649Z
LAST-MODIFIED:20220722T001649Z
UID:1027-1659985200-1659988800@www.connected-spirits.com
SUMMARY:Meditation - Online
DESCRIPTION:
URL:https://www.connected-spirits.com/event/meditation-online-26/
LOCATION:Online\, via Zoom
ATTACH;FMTTYPE=image/jpeg:https://www.connected-spirits.com/wp-content/uploads/2020/07/cropped-flat-christmas-angel-illustration_23-2148348308.jpg
END:VEVENT
BEGIN:VEVENT
DTSTART;TZID=Australia/Sydney:20220802T190000
DTEND;TZID=Australia/Sydney:20220802T203000
DTSTAMP:20260421T065825
CREATED:20220722T001534Z
LAST-MODIFIED:20220802T043554Z
UID:1024-1659466800-1659472200@www.connected-spirits.com
SUMMARY:John Smythe - Hall service
DESCRIPTION:
URL:https://www.connected-spirits.com/event/john-smythe-hall-service/
LOCATION:Inner West Cultural Services\, 35-39 Dickson Street\, Newtown
ATTACH;FMTTYPE=image/jpeg:https://www.connected-spirits.com/wp-content/uploads/2019/06/John-Smythe.jpg
END:VEVENT
BEGIN:VEVENT
DTSTART;TZID=Australia/Sydney:20220725T190000
DTEND;TZID=Australia/Sydney:20220725T200000
DTSTAMP:20260421T065825
CREATED:20220622T005055Z
LAST-MODIFIED:20220622T005055Z
UID:1008-1658775600-1658779200@www.connected-spirits.com
SUMMARY:Meditation - Online
DESCRIPTION:
URL:https://www.connected-spirits.com/event/meditation-online-25/
LOCATION:Online\, via Zoom
ATTACH;FMTTYPE=image/jpeg:https://www.connected-spirits.com/wp-content/uploads/2020/07/cropped-flat-christmas-angel-illustration_23-2148348308.jpg
END:VEVENT
BEGIN:VEVENT
DTSTART;TZID=Australia/Sydney:20220719T190000
DTEND;TZID=Australia/Sydney:20220719T203000
DTSTAMP:20260421T065825
CREATED:20220622T004932Z
LAST-MODIFIED:20220622T005035Z
UID:1009-1658257200-1658262600@www.connected-spirits.com
SUMMARY:Jenny Docherty - online service
DESCRIPTION:
URL:https://www.connected-spirits.com/event/jenny-docherty-online-service-3/
LOCATION:Online\, via Zoom
ATTACH;FMTTYPE=image/jpeg:https://www.connected-spirits.com/wp-content/uploads/2020/10/Jenny-Docherty-1.jpg
END:VEVENT
BEGIN:VEVENT
DTSTART;TZID=Australia/Sydney:20220705T190000
DTEND;TZID=Australia/Sydney:20220705T203000
DTSTAMP:20260421T065825
CREATED:20220622T004641Z
LAST-MODIFIED:20220622T004641Z
UID:1004-1657047600-1657053000@www.connected-spirits.com
SUMMARY:Simone Jones and Tracie Allan - Hall service
DESCRIPTION:
URL:https://www.connected-spirits.com/event/simone-jones-and-tracie-allan-hall-service/
LOCATION:Inner West Cultural Services\, 35-39 Dickson Street\, Newtown
ATTACH;FMTTYPE=image/jpeg:https://www.connected-spirits.com/wp-content/uploads/2022/06/Tracie-Allan-400x400-1.jpg
END:VEVENT
BEGIN:VEVENT
DTSTART;TZID=Australia/Sydney:20220627T190000
DTEND;TZID=Australia/Sydney:20220627T200000
DTSTAMP:20260421T065825
CREATED:20220524T001845Z
LAST-MODIFIED:20220524T001854Z
UID:991-1656356400-1656360000@www.connected-spirits.com
SUMMARY:Meditation - Online
DESCRIPTION:
URL:https://www.connected-spirits.com/event/meditation-online-24/
LOCATION:Online\, via Zoom
ATTACH;FMTTYPE=image/jpeg:https://www.connected-spirits.com/wp-content/uploads/2020/07/cropped-flat-christmas-angel-illustration_23-2148348308.jpg
END:VEVENT
BEGIN:VEVENT
DTSTART;TZID=Australia/Sydney:20220621T190000
DTEND;TZID=Australia/Sydney:20220621T203000
DTSTAMP:20260421T065825
CREATED:20220518T001852Z
LAST-MODIFIED:20220518T001852Z
UID:981-1655838000-1655843400@www.connected-spirits.com
SUMMARY:Val Hood and students - online service
DESCRIPTION:
URL:https://www.connected-spirits.com/event/val-hood-and-students-online-service/
LOCATION:Online\, via Zoom
ATTACH;FMTTYPE=image/jpeg:https://www.connected-spirits.com/wp-content/uploads/2021/03/val-image.jpg
END:VEVENT
BEGIN:VEVENT
DTSTART;TZID=Australia/Sydney:20220613T190000
DTEND;TZID=Australia/Sydney:20220613T200000
DTSTAMP:20260421T065825
CREATED:20220518T002034Z
LAST-MODIFIED:20220518T002047Z
UID:984-1655146800-1655150400@www.connected-spirits.com
SUMMARY:Meditation - Online
DESCRIPTION:
URL:https://www.connected-spirits.com/event/meditation-online-23/
LOCATION:Online\, via Zoom
ATTACH;FMTTYPE=image/jpeg:https://www.connected-spirits.com/wp-content/uploads/2020/07/cropped-flat-christmas-angel-illustration_23-2148348308.jpg
END:VEVENT
BEGIN:VEVENT
DTSTART;TZID=Australia/Sydney:20220607T190000
DTEND;TZID=Australia/Sydney:20220607T203000
DTSTAMP:20260421T065825
CREATED:20220505T043923Z
LAST-MODIFIED:20220505T043941Z
UID:970-1654628400-1654633800@www.connected-spirits.com
SUMMARY:Gail Clark - Hall service
DESCRIPTION:
URL:https://www.connected-spirits.com/event/gail-clark-hall-service/
LOCATION:Inner West Cultural Services\, 35-39 Dickson Street\, Newtown
ATTACH;FMTTYPE=image/jpeg:https://www.connected-spirits.com/wp-content/uploads/2020/09/Gail-Clark.jpg
END:VEVENT
BEGIN:VEVENT
DTSTART;TZID=Australia/Sydney:20220523T190000
DTEND;TZID=Australia/Sydney:20220523T200000
DTSTAMP:20260421T065825
CREATED:20220505T043838Z
LAST-MODIFIED:20220505T043838Z
UID:968-1653332400-1653336000@www.connected-spirits.com
SUMMARY:Meditation - Online
DESCRIPTION:
URL:https://www.connected-spirits.com/event/meditation-online-22/
LOCATION:Online\, via Zoom
ATTACH;FMTTYPE=image/jpeg:https://www.connected-spirits.com/wp-content/uploads/2020/07/cropped-flat-christmas-angel-illustration_23-2148348308.jpg
END:VEVENT
BEGIN:VEVENT
DTSTART;TZID=Australia/Sydney:20220517T190000
DTEND;TZID=Australia/Sydney:20220517T203000
DTSTAMP:20260421T065825
CREATED:20220505T043500Z
LAST-MODIFIED:20220505T050407Z
UID:964-1652814000-1652819400@www.connected-spirits.com
SUMMARY:Margaret Challenger - online service
DESCRIPTION:
URL:https://www.connected-spirits.com/event/margaret-challenger-online-service/
LOCATION:Online\, via Zoom
ATTACH;FMTTYPE=image/jpeg:https://www.connected-spirits.com/wp-content/uploads/2022/05/Margaret-Challenger.jpg
END:VEVENT
BEGIN:VEVENT
DTSTART;TZID=Australia/Sydney:20220509T190000
DTEND;TZID=Australia/Sydney:20220509T200000
DTSTAMP:20260421T065825
CREATED:20220415T210327Z
LAST-MODIFIED:20220415T210327Z
UID:946-1652122800-1652126400@www.connected-spirits.com
SUMMARY:Meditation - Online
DESCRIPTION:
URL:https://www.connected-spirits.com/event/meditation-online-21/
LOCATION:Online\, via Zoom
ATTACH;FMTTYPE=image/jpeg:https://www.connected-spirits.com/wp-content/uploads/2020/07/cropped-flat-christmas-angel-illustration_23-2148348308.jpg
END:VEVENT
BEGIN:VEVENT
DTSTART;TZID=Australia/Sydney:20220503T190000
DTEND;TZID=Australia/Sydney:20220503T203000
DTSTAMP:20260421T065825
CREATED:20220405T204240Z
LAST-MODIFIED:20220428T013012Z
UID:943-1651604400-1651609800@www.connected-spirits.com
SUMMARY:Ben Graham - Hall service
DESCRIPTION:
URL:https://www.connected-spirits.com/event/ben-graham-hall-service/
LOCATION:Inner West Cultural Services\, 35-39 Dickson Street\, Newtown
ATTACH;FMTTYPE=image/jpeg:https://www.connected-spirits.com/wp-content/uploads/2022/04/Ben-Graham.jpg
END:VEVENT
BEGIN:VEVENT
DTSTART;TZID=Australia/Sydney:20220425T190000
DTEND;TZID=Australia/Sydney:20220425T200000
DTSTAMP:20260421T065825
CREATED:20220315T232830Z
LAST-MODIFIED:20220315T232830Z
UID:925-1650913200-1650916800@www.connected-spirits.com
SUMMARY:Meditation - Online
DESCRIPTION:
URL:https://www.connected-spirits.com/event/meditation-online-20/
LOCATION:Online\, via Zoom
ATTACH;FMTTYPE=image/jpeg:https://www.connected-spirits.com/wp-content/uploads/2020/07/cropped-flat-christmas-angel-illustration_23-2148348308.jpg
END:VEVENT
BEGIN:VEVENT
DTSTART;TZID=Australia/Sydney:20220419T190000
DTEND;TZID=Australia/Sydney:20220419T203000
DTSTAMP:20260421T065825
CREATED:20220315T200910Z
LAST-MODIFIED:20220315T200910Z
UID:922-1650394800-1650400200@www.connected-spirits.com
SUMMARY:Martin Colclough - online service
DESCRIPTION:
URL:https://www.connected-spirits.com/event/martin-colclough-online-service-3/
LOCATION:Online\, via Zoom
ATTACH;FMTTYPE=image/jpeg:https://www.connected-spirits.com/wp-content/uploads/2021/04/1566910719481.jpg
END:VEVENT
BEGIN:VEVENT
DTSTART;TZID=Australia/Sydney:20220411T190000
DTEND;TZID=Australia/Sydney:20220411T200000
DTSTAMP:20260421T065825
CREATED:20220302T220733Z
LAST-MODIFIED:20220302T220733Z
UID:910-1649703600-1649707200@www.connected-spirits.com
SUMMARY:Meditation - Online
DESCRIPTION:
URL:https://www.connected-spirits.com/event/meditation-online-19/
LOCATION:Online\, via Zoom
ATTACH;FMTTYPE=image/jpeg:https://www.connected-spirits.com/wp-content/uploads/2020/07/cropped-flat-christmas-angel-illustration_23-2148348308.jpg
END:VEVENT
BEGIN:VEVENT
DTSTART;TZID=Australia/Sydney:20220405T190000
DTEND;TZID=Australia/Sydney:20220405T203000
DTSTAMP:20260421T065825
CREATED:20220302T220551Z
LAST-MODIFIED:20220302T220551Z
UID:906-1649185200-1649190600@www.connected-spirits.com
SUMMARY:Loretta Byrne - Hall service
DESCRIPTION:
URL:https://www.connected-spirits.com/event/loretta-byrne-hall-service/
LOCATION:Inner West Cultural Services\, 35-39 Dickson Street\, Newtown
ATTACH;FMTTYPE=image/jpeg:https://www.connected-spirits.com/wp-content/uploads/2019/03/loretta-byrne.jpeg
END:VEVENT
BEGIN:VEVENT
DTSTART;TZID=Australia/Sydney:20220321T190000
DTEND;TZID=Australia/Sydney:20220321T200000
DTSTAMP:20260421T065825
CREATED:20220302T220652Z
LAST-MODIFIED:20220302T220652Z
UID:908-1647889200-1647892800@www.connected-spirits.com
SUMMARY:Meditation - Online
DESCRIPTION:
URL:https://www.connected-spirits.com/event/meditation-online-18/
LOCATION:Online\, via Zoom
ATTACH;FMTTYPE=image/jpeg:https://www.connected-spirits.com/wp-content/uploads/2020/07/cropped-flat-christmas-angel-illustration_23-2148348308.jpg
END:VEVENT
BEGIN:VEVENT
DTSTART;TZID=Australia/Sydney:20220315T190000
DTEND;TZID=Australia/Sydney:20220315T203000
DTSTAMP:20260421T065825
CREATED:20220302T220347Z
LAST-MODIFIED:20220302T220347Z
UID:902-1647370800-1647376200@www.connected-spirits.com
SUMMARY:Chrissie Waters - Online service
DESCRIPTION:
URL:https://www.connected-spirits.com/event/chrissie-waters-online-service-2/
LOCATION:Online\, via Zoom
ATTACH;FMTTYPE=image/jpeg:https://www.connected-spirits.com/wp-content/uploads/2021/04/Chrissie-Waters.jpg
END:VEVENT
BEGIN:VEVENT
DTSTART;TZID=Australia/Sydney:20220307T190000
DTEND;TZID=Australia/Sydney:20220307T200000
DTSTAMP:20260421T065825
CREATED:20220302T220424Z
LAST-MODIFIED:20220302T220424Z
UID:904-1646679600-1646683200@www.connected-spirits.com
SUMMARY:Meditation - Online
DESCRIPTION:
URL:https://www.connected-spirits.com/event/meditation-online-17/
LOCATION:Online\, via Zoom
ATTACH;FMTTYPE=image/jpeg:https://www.connected-spirits.com/wp-content/uploads/2020/07/cropped-flat-christmas-angel-illustration_23-2148348308.jpg
END:VEVENT
BEGIN:VEVENT
DTSTART;TZID=Australia/Sydney:20220301T190000
DTEND;TZID=Australia/Sydney:20220301T203000
DTSTAMP:20260421T065825
CREATED:20220214T035456Z
LAST-MODIFIED:20220214T035456Z
UID:892-1646161200-1646166600@www.connected-spirits.com
SUMMARY:Janelle Campbell - Online service
DESCRIPTION:
URL:https://www.connected-spirits.com/event/janelle-campbell-online-service/
LOCATION:Inner West Cultural Services\, 35-39 Dickson Street\, Newtown
ATTACH;FMTTYPE=image/jpeg:https://www.connected-spirits.com/wp-content/uploads/2019/04/Image-of-JC-in-park-3.jpg
END:VEVENT
BEGIN:VEVENT
DTSTART;TZID=Australia/Sydney:20220221T190000
DTEND;TZID=Australia/Sydney:20220221T200000
DTSTAMP:20260421T065825
CREATED:20220214T035946Z
LAST-MODIFIED:20220214T035946Z
UID:895-1645470000-1645473600@www.connected-spirits.com
SUMMARY:Meditation - Online
DESCRIPTION:
URL:https://www.connected-spirits.com/event/meditation-online-16/
LOCATION:Online\, via Zoom
ATTACH;FMTTYPE=image/jpeg:https://www.connected-spirits.com/wp-content/uploads/2020/07/cropped-flat-christmas-angel-illustration_23-2148348308.jpg
END:VEVENT
BEGIN:VEVENT
DTSTART;TZID=Australia/Sydney:20220215T190000
DTEND;TZID=Australia/Sydney:20220215T203000
DTSTAMP:20260421T065825
CREATED:20220206T003227Z
LAST-MODIFIED:20220206T003227Z
UID:888-1644951600-1644957000@www.connected-spirits.com
SUMMARY:Julie Rogers - Online service
DESCRIPTION:
URL:https://www.connected-spirits.com/event/julie-rogers-online-service/
LOCATION:Inner West Cultural Services\, 35-39 Dickson Street\, Newtown
ATTACH;FMTTYPE=image/jpeg:https://www.connected-spirits.com/wp-content/uploads/2021/01/Julie-Rogers.jpg
END:VEVENT
BEGIN:VEVENT
DTSTART;TZID=Australia/Sydney:20220207T190000
DTEND;TZID=Australia/Sydney:20220207T200000
DTSTAMP:20260421T065825
CREATED:20220126T092452Z
LAST-MODIFIED:20220126T092452Z
UID:884-1644260400-1644264000@www.connected-spirits.com
SUMMARY:Meditation - Online
DESCRIPTION:
URL:https://www.connected-spirits.com/event/meditation-online-15/
LOCATION:Online\, via Zoom
ATTACH;FMTTYPE=image/jpeg:https://www.connected-spirits.com/wp-content/uploads/2020/07/cropped-flat-christmas-angel-illustration_23-2148348308.jpg
END:VEVENT
BEGIN:VEVENT
DTSTART;TZID=Australia/Sydney:20220202T190000
DTEND;TZID=Australia/Sydney:20220202T203000
DTSTAMP:20260421T065825
CREATED:20220126T092354Z
LAST-MODIFIED:20220126T092354Z
UID:881-1643828400-1643833800@www.connected-spirits.com
SUMMARY:Karen Wood - Online service
DESCRIPTION:
URL:https://www.connected-spirits.com/event/karen-wood-online-service/
LOCATION:Inner West Cultural Services\, 35-39 Dickson Street\, Newtown
ATTACH;FMTTYPE=image/jpeg:https://www.connected-spirits.com/wp-content/uploads/2020/11/Karen-Wood-UK.jpg
END:VEVENT
BEGIN:VEVENT
DTSTART;TZID=Australia/Sydney:20211122T190000
DTEND;TZID=Australia/Sydney:20211122T200000
DTSTAMP:20260421T065825
CREATED:20210406T203226Z
LAST-MODIFIED:20210407T045115Z
UID:666-1637607600-1637611200@www.connected-spirits.com
SUMMARY:Meditation - Online
DESCRIPTION:
URL:https://www.connected-spirits.com/event/meditation-online-14/
LOCATION:Online\, via Zoom
ATTACH;FMTTYPE=image/jpeg:https://www.connected-spirits.com/wp-content/uploads/2020/07/cropped-flat-christmas-angel-illustration_23-2148348308.jpg
END:VEVENT
BEGIN:VEVENT
DTSTART;TZID=Australia/Sydney:20211116T190000
DTEND;TZID=Australia/Sydney:20211116T203000
DTSTAMP:20260421T065825
CREATED:20210406T203429Z
LAST-MODIFIED:20211006T214023Z
UID:668-1637089200-1637094600@www.connected-spirits.com
SUMMARY:Donna Young - Online service
DESCRIPTION:
URL:https://www.connected-spirits.com/event/donna-young-online-service/
LOCATION:Online\, via Zoom
ATTACH;FMTTYPE=image/jpeg:https://www.connected-spirits.com/wp-content/uploads/2021/10/Donna-Young.jpg
END:VEVENT
END:VCALENDAR